Workbook

Sheet Scores
A1: Item | B1: Rubric row | C1: Student group | D1: Your score | E1: Second grader's score | F1: Tool's score | G1: Tool disagrees with you | H1: Second grader disagrees with you
A2: 1 | B2: Verification | C2: Section A | D2: 3 | E2: 3 | F2: 3 | G2: =IF(AND(D2<>"",F2<>""),IF(D2<>F2,1,0),"") -> 0 | H2: =IF(AND(D2<>"",E2<>""),IF(D2<>E2,1,0),"") -> 0
A3: 2 | B3: Verification | C3: Section A | D3: 2 | E3: 2 | F3: 2 | G3: =IF(AND(D3<>"",F3<>""),IF(D3<>F3,1,0),"") -> 0 | H3: =IF(AND(D3<>"",E3<>""),IF(D3<>E3,1,0),"") -> 0
A4: 3 | B4: Verification | C4: Section A | D4: 4 | E4: 3 | F4: 4 | G4: =IF(AND(D4<>"",F4<>""),IF(D4<>F4,1,0),"") -> 0 | H4: =IF(AND(D4<>"",E4<>""),IF(D4<>E4,1,0),"") -> 1
A5: 4 | B5: Verification | C5: Section B | D5: 1 | E5: 2 | F5: 1 | G5: =IF(AND(D5<>"",F5<>""),IF(D5<>F5,1,0),"") -> 0 | H5: =IF(AND(D5<>"",E5<>""),IF(D5<>E5,1,0),"") -> 1
A6: 5 | B6: Verification | C6: Section B | D6: 3 | E6: 4 | F6: 2 | G6: =IF(AND(D6<>"",F6<>""),IF(D6<>F6,1,0),"") -> 1 | H6: =IF(AND(D6<>"",E6<>""),IF(D6<>E6,1,0),"") -> 1
A7: 6 | B7: Verification | C7: Section B | D7: 2 | E7: 2 | F7: 2 | G7: =IF(AND(D7<>"",F7<>""),IF(D7<>F7,1,0),"") -> 0 | H7: =IF(AND(D7<>"",E7<>""),IF(D7<>E7,1,0),"") -> 0
A8: 7 | B8: Verification | C8: Section B | D8: 4 | E8: 4 | F8: 4 | G8: =IF(AND(D8<>"",F8<>""),IF(D8<>F8,1,0),"") -> 0 | H8: =IF(AND(D8<>"",E8<>""),IF(D8<>E8,1,0),"") -> 0
A9: 8 | B9: Ownership | C9: Section A | D9: 3 | E9: 2 | F9: 3 | G9: =IF(AND(D9<>"",F9<>""),IF(D9<>F9,1,0),"") -> 0 | H9: =IF(AND(D9<>"",E9<>""),IF(D9<>E9,1,0),"") -> 1
A10: 9 | B10: Ownership | C10: Section A | D10: 2 | E10: 2 | F10: 2 | G10: =IF(AND(D10<>"",F10<>""),IF(D10<>F10,1,0),"") -> 0 | H10: =IF(AND(D10<>"",E10<>""),IF(D10<>E10,1,0),"") -> 0
A11: 10 | B11: Ownership | C11: Section A | D11: 4 | E11: 4 | F11: 3 | G11: =IF(AND(D11<>"",F11<>""),IF(D11<>F11,1,0),"") -> 1 | H11: =IF(AND(D11<>"",E11<>""),IF(D11<>E11,1,0),"") -> 0
A12: 11 | B12: Ownership | C12: Section B | D12: 1 | E12: 2 | F12: 1 | G12: =IF(AND(D12<>"",F12<>""),IF(D12<>F12,1,0),"") -> 0 | H12: =IF(AND(D12<>"",E12<>""),IF(D12<>E12,1,0),"") -> 1
A13: 12 | B13: Ownership | C13: Section B | D13: 3 | E13: 3 | F13: 3 | G13: =IF(AND(D13<>"",F13<>""),IF(D13<>F13,1,0),"") -> 0 | H13: =IF(AND(D13<>"",E13<>""),IF(D13<>E13,1,0),"") -> 0
... A21: 20 | B21: Disclosure | C21: Section B | D21: 2 | E21: 2 | F21: 3 | G21: =IF(AND(D21<>"",F21<>""),IF(D21<>F21,1,0),"") -> 1 | H21: =IF(AND(D21<>"",E21<>""),IF(D21<>E21,1,0),"") -> 0
G22: =IF(AND(D22<>"",F22<>""),IF(D22<>F22,1,0),"") | H22: =IF(AND(D22<>"",E22<>""),IF(D22<>E22,1,0),"")
G23: =IF(AND(D23<>"",F23<>""),IF(D23<>F23,1,0),"") | H23: =IF(AND(D23<>"",E23<>""),IF(D23<>E23,1,0),"")
G24: =IF(AND(D24<>"",F24<>""),IF(D24<>F24,1,0),"") | H24: =IF(AND(D24<>"",E24<>""),IF(D24<>E24,1,0),"")
G25: =IF(AND(D25<>"",F25<>""),IF(D25<>F25,1,0),"") | H25: =IF(AND(D25<>"",E25<>""),IF(D25<>E25,1,0),"")
G26: =IF(AND(D26<>"",F26<>""),IF(D26<>F26,1,0),"") | H26: =IF(AND(D26<>"",E26<>""),IF(D26<>E26,1,0),"")
G27: =IF(AND(D27<>"",F27<>""),IF(D27<>F27,1,0),"") | H27: =IF(AND(D27<>"",E27<>""),IF(D27<>E27,1,0),"")
G28: =IF(AND(D28<>"",F28<>""),IF(D28<>F28,1,0),"") | H28: =IF(AND(D28<>"",E28<>""),IF(D28<>E28,1,0),"")
G29: =IF(AND(D29<>"",F29<>""),IF(D29<>F29,1,0),"") | H29: =IF(AND(D29<>"",E29<>""),IF(D29<>E29,1,0),"")
G30: =IF(AND(D30<>"",F30<>""),IF(D30<>F30,1,0),"") | H30: =IF(AND(D30<>"",E30<>""),IF(D30<>E30,1,0),"")
G31: =IF(AND(D31<>"",F31<>""),IF(D31<>F31,1,0),"") | H31: =IF(AND(D31<>"",E31<>""),IF(D31<>E31,1,0),"")
G32: =IF(AND(D32<>"",F32<>""),IF(D32<>F32,1,0),"") | H32: =IF(AND(D32<>"",E32<>""),IF(D32<>E32,1,0),"")
G33: =IF(AND(D33<>"",F33<>""),IF(D33<>F33,1,0),"") | H33: =IF(AND(D33<>"",E33<>""),IF(D33<>E33,1,0),"")
... G201: =IF(AND(D201<>"",F201<>""),IF(D201<>F201,1,0),"") | H201: =IF(AND(D201<>"",E201<>""),IF(D201<>E201,1,0),"")

Sheet Measures
A1: Grading-agreement check: the three measures
A2: Number of rubric levels (k) | B2: 4 | C2: Fill in. Scores run 1..k. Up to 6 levels are supported.
A3: Legend: blue text = you type it; black = computed. Yellow = the one setting to check first.
A5: Helper: counts per level, paired rows only
A6: level | B6: 1 | C6: 2 | D6: 3 | E6: 4 | F6: 5 | G6: 6
A7: your score (rows paired with the tool) | B7: =COUNTIFS(Scores!$D$2:$D$201,B6,Scores!$F$2:$F$201,"<>") -> 3 | C7: =COUNTIFS(Scores!$D$2:$D$201,C6,Scores!$F$2:$F$201,"<>") -> 6 | D7: =COUNTIFS(Scores!$D$2:$D$201,D6,Scores!$F$2:$F$201,"<>") -> 6 | E7: =COUNTIFS(Scores!$D$2:$D$201,E6,Scores!$F$2:$F$201,"<>") -> 5 | F7: =COUNTIFS(Scores!$D$2:$D$201,F6,Scores!$F$2:$F$201,"<>") -> 0 | G7: =COUNTIFS(Scores!$D$2:$D$201,G6,Scores!$F$2:$F$201,"<>") -> 0
A8: tool's score | B8: =COUNTIFS(Scores!$F$2:$F$201,B6,Scores!$D$2:$D$201,"<>") -> 2 | C8: =COUNTIFS(Scores!$F$2:$F$201,C6,Scores!$D$2:$D$201,"<>") -> 6 | D8: =COUNTIFS(Scores!$F$2:$F$201,D6,Scores!$D$2:$D$201,"<>") -> 6 | E8: =COUNTIFS(Scores!$F$2:$F$201,E6,Scores!$D$2:$D$201,"<>") -> 6 | F8: =COUNTIFS(Scores!$F$2:$F$201,F6,Scores!$D$2:$D$201,"<>") -> 0 | G8: =COUNTIFS(Scores!$F$2:$F$201,G6,Scores!$D$2:$D$201,"<>") -> 0
A9: your score (rows paired with the second grader) | B9: =COUNTIFS(Scores!$D$2:$D$201,B6,Scores!$E$2:$E$201,"<>") -> 3 | C9: =COUNTIFS(Scores!$D$2:$D$201,C6,Scores!$E$2:$E$201,"<>") -> 6 | D9: =COUNTIFS(Scores!$D$2:$D$201,D6,Scores!$E$2:$E$201,"<>") -> 6 | E9: =COUNTIFS(Scores!$D$2:$D$201,E6,Scores!$E$2:$E$201,"<>") -> 5 | F9: =COUNTIFS(Scores!$D$2:$D$201,F6,Scores!$E$2:$E$201,"<>") -> 0 | G9: =COUNTIFS(Scores!$D$2:$D$201,G6,Scores!$E$2:$E$201,"<>") -> 0
A10: second grader's score | B10: =COUNTIFS(Scores!$E$2:$E$201,B6,Scores!$D$2:$D$201,"<>") -> 1 | C10: =COUNTIFS(Scores!$E$2:$E$201,C6,Scores!$D$2:$D$201,"<>") -> 9 | D10: =COUNTIFS(Scores!$E$2:$E$201,D6,Scores!$D$2:$D$201,"<>") -> 6 | E10: =COUNTIFS(Scores!$E$2:$E$201,E6,Scores!$D$2:$D$201,"<>") -> 4 | F10: =COUNTIFS(Scores!$E$2:$E$201,F6,Scores!$D$2:$D$201,"<>") -> 0 | G10: =COUNTIFS(Scores!$E$2:$E$201,G6,Scores!$D$2:$D$201,"<>") -> 0
A12: Helper: quadratic weights w(i,j) = (i-j)^2 / (k-1)^2
A13: row = your level, column = other grader's level | B13: 1 | C13: 2 | D13: 3 | E13: 4 | F13: 5 | G13: 6
A14: 1 | B14: =(A14-B$13)^2/($B$2-1)^2 -> 0 | C14: =(A14-C$13)^2/($B$2-1)^2 -> 0.11111111 | D14: =(A14-D$13)^2/($B$2-1)^2 -> 0.44444444 | E14: =(A14-E$13)^2/($B$2-1)^2 -> 1 | F14: =(A14-F$13)^2/($B$2-1)^2 -> 1.7777778 | G14: =(A14-G$13)^2/($B$2-1)^2 -> 2.7777778
A15: 2 | B15: =(A15-B$13)^2/($B$2-1)^2 -> 0.11111111 | C15: =(A15-C$13)^2/($B$2-1)^2 -> 0 | D15: =(A15-D$13)^2/($B$2-1)^2 -> 0.11111111 | E15: =(A15-E$13)^2/($B$2-1)^2 -> 0.44444444 | F15: =(A15-F$13)^2/($B$2-1)^2 -> 1 | G15: =(A15-G$13)^2/($B$2-1)^2 -> 1.7777778
A16: 3 | B16: =(A16-B$13)^2/($B$2-1)^2 -> 0.44444444 | C16: =(A16-C$13)^2/($B$2-1)^2 -> 0.11111111 | D16: =(A16-D$13)^2/($B$2-1)^2 -> 0 | E16: =(A16-E$13)^2/($B$2-1)^2 -> 0.11111111 | F16: =(A16-F$13)^2/($B$2-1)^2 -> 0.44444444 | G16: =(A16-G$13)^2/($B$2-1)^2 -> 1
A17: 4 | B17: =(A17-B$13)^2/($B$2-1)^2 -> 1 | C17: =(A17-C$13)^2/($B$2-1)^2 -> 0.44444444 | D17: =(A17-D$13)^2/($B$2-1)^2 -> 0.11111111 | E17: =(A17-E$13)^2/($B$2-1)^2 -> 0 | F17: =(A17-F$13)^2/($B$2-1)^2 -> 0.11111111 | G17: =(A17-G$13)^2/($B$2-1)^2 -> 0.44444444
A18: 5 | B18: =(A18-B$13)^2/($B$2-1)^2 -> 1.7777778 | C18: =(A18-C$13)^2/($B$2-1)^2 -> 1 | D18: =(A18-D$13)^2/($B$2-1)^2 -> 0.44444444 | E18: =(A18-E$13)^2/($B$2-1)^2 -> 0.11111111 | F18: =(A18-F$13)^2/($B$2-1)^2 -> 0 | G18: =(A18-G$13)^2/($B$2-1)^2 -> 0.11111111
A19: 6 | B19: =(A19-B$13)^2/($B$2-1)^2 -> 2.7777778 | C19: =(A19-C$13)^2/($B$2-1)^2 -> 1.7777778 | D19: =(A19-D$13)^2/($B$2-1)^2 -> 1 | E19: =(A19-E$13)^2/($B$2-1)^2 -> 0.44444444 | F19: =(A19-F$13)^2/($B$2-1)^2 -> 0.11111111 | G19: =(A19-G$13)^2/($B$2-1)^2 -> 0
A21: Helper: expected pairs, you x tool (marginal products)
A22: 1 | B22: =$B$7*B$8 -> 6 | C22: =$B$7*C$8 -> 18 | D22: =$B$7*D$8 -> 18 | E22: =$B$7*E$8 -> 18 | F22: =$B$7*F$8 -> 0 | G22: =$B$7*G$8 -> 0
A23: 2 | B23: =$C$7*B$8 -> 12 | C23: =$C$7*C$8 -> 36 | D23: =$C$7*D$8 -> 36 | E23: =$C$7*E$8 -> 36 | F23: =$C$7*F$8 -> 0 | G23: =$C$7*G$8 -> 0
A24: 3 | B24: =$D$7*B$8 -> 12 | C24: =$D$7*C$8 -> 36 | D24: =$D$7*D$8 -> 36 | E24: =$D$7*E$8 -> 36 | F24: =$D$7*F$8 -> 0 | G24: =$D$7*G$8 -> 0
A25: 4 | B25: =$E$7*B$8 -> 10 | C25: =$E$7*C$8 -> 30 | D25: =$E$7*D$8 -> 30 | E25: =$E$7*E$8 -> 30 | F25: =$E$7*F$8 -> 0 | G25: =$E$7*G$8 -> 0
A26: 5 | B26: =$F$7*B$8 -> 0 | C26: =$F$7*C$8 -> 0 | D26: =$F$7*D$8 -> 0 | E26: =$F$7*E$8 -> 0 | F26: =$F$7*F$8 -> 0 | G26: =$F$7*G$8 -> 0
A27: 6 | B27: =$G$7*B$8 -> 0 | C27: =$G$7*C$8 -> 0 | D27: =$G$7*D$8 -> 0 | E27: =$G$7*E$8 -> 0 | F27: =$G$7*F$8 -> 0 | G27: =$G$7*G$8 -> 0
A29: Helper: expected pairs, you x second grader
A30: 1 | B30: =$B$9*B$10 -> 3 | C30: =$B$9*C$10 -> 27 | D30: =$B$9*D$10 -> 18 | E30: =$B$9*E$10 -> 12 | F30: =$B$9*F$10 -> 0 | G30: =$B$9*G$10 -> 0
A31: 2 | B31: =$C$9*B$10 -> 6 | C31: =$C$9*C$10 -> 54 | D31: =$C$9*D$10 -> 36 | E31: =$C$9*E$10 -> 24 | F31: =$C$9*F$10 -> 0 | G31: =$C$9*G$10 -> 0
A32: 3 | B32: =$D$9*B$10 -> 6 | C32: =$D$9*C$10 -> 54 | D32: =$D$9*D$10 -> 36 | E32: =$D$9*E$10 -> 24 | F32: =$D$9*F$10 -> 0 | G32: =$D$9*G$10 -> 0
A33: 4 | B33: =$E$9*B$10 -> 5 | C33: =$E$9*C$10 -> 45 | D33: =$E$9*D$10 -> 30 | E33: =$E$9*E$10 -> 20 | F33: =$E$9*F$10 -> 0 | G33: =$E$9*G$10 -> 0
A34: 5 | B34: =$F$9*B$10 -> 0 | C34: =$F$9*C$10 -> 0 | D34: =$F$9*D$10 -> 0 | E34: =$F$9*E$10 -> 0 | F34: =$F$9*F$10 -> 0 | G34: =$F$9*G$10 -> 0
A35: 6 | B35: =$G$9*B$10 -> 0 | C35: =$G$9*C$10 -> 0 | D35: =$G$9*D$10 -> 0 | E35: =$G$9*E$10 -> 0 | F35: =$G$9*F$10 -> 0 | G35: =$G$9*G$10 -> 0
A37: Measure 1: agreement with you (quadratic weighted kappa, you vs tool)
A38: paired items (N) | B38: =SUMPRODUCT((Scores!$D$2:$D$201<>"")*(Scores!$F$2:$F$201<>"")) -> 20
A39: exact agreement (share of items scored identically) | B39: =IF(B38=0,"n/a",1-SUM(Scores!$G$2:$G$201)/B38) -> 0.65
A40: observed weighted disagreement O | B40: =IF(B38=0,"n/a",SUMPRODUCT((Scores!$D$2:$D$201<>"")*(Scores!$F$2:$F$201<>"")*(Scores!$D$2:$D$201-Scores!$F$2:$F$201)^2)/(($B$2-1)^2*B38)) -> 0.038888889
A41: expected weighted disagreement E (by chance, from the marginals) | B41: =IF(B38=0,"n/a",SUMPRODUCT($B$14:$G$19,$B$22:$G$27)/(B38^2)) -> 0.22333333
A42: kappa, you vs tool | B42: =IF(OR(B38=0,B41=0),"n/a",1-B40/B41) -> 0.82587065
A43: passes at or above 0.70? | B43: =IF(B42="n/a","n/a",IF(B42>=0.7,"PASS","FAIL")) -> PASS
A45: Measure 2: the human baseline (quadratic weighted kappa, you vs second grader)
A46: paired items (N) | B46: =SUMPRODUCT((Scores!$D$2:$D$201<>"")*(Scores!$E$2:$E$201<>"")) -> 20
...
